BEGIN:VCALENDAR

VERSION:2.0

PRODID:-//hacksw/handcal//NONSGML v1.0//EN

BEGIN:VEVENT

UID:7f91452349f884e651028596bc907c39

DTSTAMP:20260421T175200Z

DTSTART:20260422T130000

DTEND:20260422T133000

SUMMARY:b40900e18beb41ba8d01817fd2275ac9 - 4/75A Cobar Street, DULWICH HILL NSW 2203

LOCATION:4/75A Cobar Street, DULWICH HILL NSW 2203

END:VEVENT

END:VCALENDAR