BEGIN:VCALENDAR

VERSION:2.0

PRODID:-//hacksw/handcal//NONSGML v1.0//EN

BEGIN:VEVENT

UID:278701f7871dc807fd4fe94abfef847d

DTSTAMP:20260421T175724Z

DTSTART:20260425T130000

DTEND:20260425T133000

SUMMARY:b40900e18beb41ba8d01817fd2275ac9 - 4/75A Cobar Street, DULWICH HILL NSW 2203

LOCATION:4/75A Cobar Street, DULWICH HILL NSW 2203

END:VEVENT

END:VCALENDAR