BEGIN:VCALENDAR

VERSION:2.0

PRODID:-//hacksw/handcal//NONSGML v1.0//EN

BEGIN:VEVENT

UID:86cfcba8d87badc42713fa4fcfed2953

DTSTAMP:20260424T134720Z

DTSTART:20260428T123000

DTEND:20260428T124500

SUMMARY:b1d1018f305d4339b05bc0278163d3a6 - 307/11-13 Osgood Avenue, MARRICKVILLE NSW 2204

LOCATION:307/11-13 Osgood Avenue, MARRICKVILLE NSW 2204

END:VEVENT

END:VCALENDAR